BEGIN:VCALENDAR
VERSION:2.0
PRODID:-//Alberta Creek - ECPv6.6.4.2//NONSGML v1.0//EN
CALSCALE:GREGORIAN
METHOD:PUBLISH
X-ORIGINAL-URL:https://albertacreek.com
X-WR-CALDESC:Events for Alberta Creek
REFRESH-INTERVAL;VALUE=DURATION:PT1H
X-Robots-Tag:noindex
X-PUBLISHED-TTL:PT1H
BEGIN:VTIMEZONE
TZID:UTC
BEGIN:STANDARD
TZOFFSETFROM:+0000
TZOFFSETTO:+0000
TZNAME:UTC
DTSTART:20260101T000000
END:STANDARD
END:VTIMEZONE
BEGIN:VEVENT
DTSTART;TZID=UTC:20260703T190000
DTEND;TZID=UTC:20260703T220000
DTSTAMP:20260421T053246
CREATED:20260420T211259Z
LAST-MODIFIED:20260420T211259Z
UID:4013-1783105200-1783116000@albertacreek.com
SUMMARY:LIVE MUSIC SAWYER GUYMON
DESCRIPTION:
URL:https://albertacreek.com/event/live-music-sawyer-guymon-2/
END:VEVENT
BEGIN:VEVENT
DTSTART;TZID=UTC:20260704T190000
DTEND;TZID=UTC:20260704T220000
DTSTAMP:20260421T053246
CREATED:20260420T211340Z
LAST-MODIFIED:20260420T211340Z
UID:4015-1783191600-1783202400@albertacreek.com
SUMMARY:LIVE MUSIC GREG GUYMON
DESCRIPTION:
URL:https://albertacreek.com/event/live-music-greg-guymon/
END:VEVENT
BEGIN:VEVENT
DTSTART;TZID=UTC:20260711T190000
DTEND;TZID=UTC:20260711T220000
DTSTAMP:20260421T053246
CREATED:20260420T211420Z
LAST-MODIFIED:20260420T211616Z
UID:4017-1783796400-1783807200@albertacreek.com
SUMMARY:LIVE MUSIC BRAYDEN STEWART
DESCRIPTION:
URL:https://albertacreek.com/event/live-music/
END:VEVENT
BEGIN:VEVENT
DTSTART;TZID=UTC:20260725T190000
DTEND;TZID=UTC:20260725T220000
DTSTAMP:20260421T053246
CREATED:20260420T211502Z
LAST-MODIFIED:20260420T211502Z
UID:4019-1785006000-1785016800@albertacreek.com
SUMMARY:LIVE MUSIC TEXOMA OUTLAWS
DESCRIPTION:
URL:https://albertacreek.com/event/live-music-texoma-outlaws-2/
END:VEVENT
BEGIN:VEVENT
DTSTART;TZID=UTC:20260904T190000
DTEND;TZID=UTC:20260904T220000
DTSTAMP:20260421T053246
CREATED:20260420T211700Z
LAST-MODIFIED:20260420T211700Z
UID:4021-1788548400-1788559200@albertacreek.com
SUMMARY:LIVE MUSIC SHANNON RAINES
DESCRIPTION:
URL:https://albertacreek.com/event/live-music-shannon-raines-2/
END:VEVENT
BEGIN:VEVENT
DTSTART;TZID=UTC:20260905T190000
DTEND;TZID=UTC:20260905T220000
DTSTAMP:20260421T053246
CREATED:20260420T211740Z
LAST-MODIFIED:20260420T211740Z
UID:4023-1788634800-1788645600@albertacreek.com
SUMMARY:LIVE MUSIC GREG GUYMON
DESCRIPTION:
URL:https://albertacreek.com/event/live-music-greg-guymon-2/
END:VEVENT
BEGIN:VEVENT
DTSTART;VALUE=DATE:20260906
DTEND;VALUE=DATE:20260907
DTSTAMP:20260421T053246
CREATED:20260420T212052Z
LAST-MODIFIED:20260420T212052Z
UID:4027-1788652800-1788739199@albertacreek.com
SUMMARY:DJ CRISIS AT OUR 3RD ANNUAL BELLY FLOP
DESCRIPTION:
URL:https://albertacreek.com/event/dj-crisis-at-our-3rd-annual-belly-flop/
END:VEVENT
END:VCALENDAR