BEGIN:VCALENDAR
VERSION:2.0
PRODID:-//Alberta Creek - ECPv6.6.4.2//NONSGML v1.0//EN
CALSCALE:GREGORIAN
METHOD:PUBLISH
X-WR-CALNAME:Alberta Creek
X-ORIGINAL-URL:https://albertacreek.com
X-WR-CALDESC:Events for Alberta Creek
REFRESH-INTERVAL;VALUE=DURATION:PT1H
X-Robots-Tag:noindex
X-PUBLISHED-TTL:PT1H
BEGIN:VTIMEZONE
TZID:UTC
BEGIN:STANDARD
TZOFFSETFROM:+0000
TZOFFSETTO:+0000
TZNAME:UTC
DTSTART:20250101T000000
END:STANDARD
END:VTIMEZONE
BEGIN:VEVENT
DTSTART;TZID=UTC:20250215T080000
DTEND;TZID=UTC:20250215T160000
DTSTAMP:20260420T185006
CREATED:20250210T174326Z
LAST-MODIFIED:20250210T181326Z
UID:3934-1739606400-1739635200@albertacreek.com
SUMMARY:Southeastern Oklahoma Bass Fishing Tournament
DESCRIPTION:Alberta Creek Resort & Marina is hosting a Bass Fishing Tournament this Saturday February 15\, 2025! Come out and support our local students from Southeastern Oklahoma State University Bass Fishing Team as they compete! \nTake off is 8:00am from Alberta Creek’s boat launch area and Weigh-in is at 4:00pm on the main Fuel Dock. \n 
URL:https://albertacreek.com/event/southeastern-oklahoma-bass-fishing-tournament/
ATTACH;FMTTYPE=image/jpeg:https://albertacreek.com/wp-content/uploads/2025/02/SOSU-Fishing-Team-Logo.jpg
END:VEVENT
BEGIN:VEVENT
DTSTART;TZID=UTC:20250412T063000
DTEND;TZID=UTC:20250412T150000
DTSTAMP:20260420T185006
CREATED:20250404T172122Z
LAST-MODIFIED:20250404T172646Z
UID:3949-1744439400-1744470000@albertacreek.com
SUMMARY:Southeaster Oklahoma Fishing Tournament
DESCRIPTION:Alberta Creek Resort & Marina is hosting a Bass Fishing Tournament this Saturday April 12\, 2025! Come out and support our local students from Southeastern Oklahoma State University Bass Fishing Team as they compete! \nTake off is 6:30am from Alberta Creek’s boat launch area and Weigh-in is at 3:00pm on the main Fuel Dock. \nScreenshot
URL:https://albertacreek.com/event/southeaster-oklahoma-fishing-tournament/
ATTACH;FMTTYPE=image/jpeg:https://albertacreek.com/wp-content/uploads/2025/02/SOSU-Fishing-Team-Logo.jpg
END:VEVENT
BEGIN:VEVENT
DTSTART;TZID=UTC:20260501T100000
DTEND;TZID=UTC:20260502T210000
DTSTAMP:20260420T185006
CREATED:20250117T181511Z
LAST-MODIFIED:20260420T160149Z
UID:3931-1777629600-1777755600@albertacreek.com
SUMMARY:Restaurant Opening
DESCRIPTION:FRIDAY MAY 1st OPENING DAY! \nThe Lake House Bar and Grill \n 
URL:https://albertacreek.com/event/restaurant-opening/
LOCATION:Lake Texoma\, Lake Texoma\, United States
ATTACH;FMTTYPE=image/jpeg:https://albertacreek.com/wp-content/uploads/2021/09/B74I0087.jpg
END:VEVENT
BEGIN:VEVENT
DTSTART;TZID=UTC:20260501T100000
DTEND;TZID=UTC:20260502T210000
DTSTAMP:20260420T185006
CREATED:20260420T161350Z
LAST-MODIFIED:20260420T161350Z
UID:3995-1777629600-1777755600@albertacreek.com
SUMMARY:OPENING DAY
DESCRIPTION:DON’T MISS OUT ON OPENING WEEKEND!  OLD FAVORITES AND NEW FAVORITES ON OUR MENU!  SEE YA’LL AT THE CREEK! \n 
URL:https://albertacreek.com/event/opening-day/
END:VEVENT
BEGIN:VEVENT
DTSTART;TZID=UTC:20260502T100000
DTEND;TZID=UTC:20260502T210000
DTSTAMP:20260420T185006
CREATED:20260420T160459Z
LAST-MODIFIED:20260420T160753Z
UID:3992-1777716000-1777755600@albertacreek.com
SUMMARY:DERBY DAY
DESCRIPTION:JOIN US FOR DERBY DAY ON MAY 2ND!  CAFE FOOD AND BAR SPECIALS ALL DAY\, MINT JULEPS\, DRAWINGS FOR STORE MERCHANDISE AND MUCH MORE!
URL:https://albertacreek.com/event/3992/
END:VEVENT
END:VCALENDAR